BEGIN:VCALENDAR
VERSION:2.0
PRODID:-//hacksw/handcal//NONSGML v1.0//EN
CALSCALE:GREGORIAN
BEGIN:VEVENT
ORGANIZER;CN=Honeywell International Inc.:MAILTO:no-reply@gcs-web.com
DTEND:
UID:a3f7c24b-4474-46ed-8185-11dc98803ad7
DTSTAMP:1776852597
LOCATION:https://investor.honeywell.com/events/event-details/honeywell-investor-day
DESCRIPTION:Event Details https://investor.honeywell.com/events/event-details/honeywell-investor-day
URL;VALUE=URI:https://investor.honeywell.com/events/event-details/honeywell-investor-day
SUMMARY:Honeywell International Inc. - Honeywell Investor Day
DTSTART:20260611T040000Z
END:VEVENT
END:VCALENDAR