BEGIN:VCALENDAR
VERSION:2.0
PRODID:-//hacksw/handcal//NONSGML v1.0//EN
CALSCALE:GREGORIAN
BEGIN:VEVENT
ORGANIZER;CN=Honeywell International Inc.:MAILTO:no-reply@gcs-web.com
DTEND:
UID:85364a6b-411e-40d1-aa51-2b8a9088885d
DTSTAMP:1776857975
LOCATION:https://event.choruscall.com/mediaframe/webcast.html?webcastid=lwGYJoGY
DESCRIPTION:Event Details https://investor.honeywell.com/events/event-details/q1-2026-honeywell-earnings-conference-call\n\nWebcast: https://event.choruscall.com/mediaframe/webcast.html?webcastid=lwGYJoGY
URL;VALUE=URI:https://event.choruscall.com/mediaframe/webcast.html?webcastid=lwGYJoGY
SUMMARY:Honeywell International Inc. - Q1 2026 Honeywell Earnings Conference Call
DTSTART:20260423T123000Z
END:VEVENT
END:VCALENDAR